BEGIN:VCALENDAR
VERSION:2.0
PRODID:-//Arlington Community Band - ECPv6.15.20//NONSGML v1.0//EN
CALSCALE:GREGORIAN
METHOD:PUBLISH
X-ORIGINAL-URL:https://arlingtoncommunityband.org
X-WR-CALDESC:Events for Arlington Community Band
REFRESH-INTERVAL;VALUE=DURATION:PT1H
X-Robots-Tag:noindex
X-PUBLISHED-TTL:PT1H
BEGIN:VTIMEZONE
TZID:UTC
BEGIN:STANDARD
TZOFFSETFROM:+0000
TZOFFSETTO:+0000
TZNAME:UTC
DTSTART:20240101T000000
END:STANDARD
END:VTIMEZONE
BEGIN:VEVENT
DTSTART;TZID=UTC:20251207T190000
DTEND;TZID=UTC:20251207T200000
DTSTAMP:20260421T160708
CREATED:20240905T025943Z
LAST-MODIFIED:20251204T151530Z
UID:2389-1765134000-1765137600@arlingtoncommunityband.org
SUMMARY:Christmas Concert
DESCRIPTION:Celebrate Christmas with ACB! Join us for a free\, festive concert for the whole family. We’ll play The Polar Express\, Sleigh Ride\, Fanfare and Hark! The Herald Angels Sing and more Christmas favorites. We’ll also host an intermission with cookies and ensemble performances. \nDownload Program
URL:https://arlingtoncommunityband.org/event/holiday-concert/
LOCATION:Lamar Baptist Church\, 1000 W. Lamar Blvd\, Arlington\, TX\, 76012\, United States
END:VEVENT
END:VCALENDAR