BEGIN:VCALENDAR
VERSION:2.0
PRODID:-//Arlington Community Band - ECPv6.15.20//NONSGML v1.0//EN
CALSCALE:GREGORIAN
METHOD:PUBLISH
X-WR-CALNAME:Arlington Community Band
X-ORIGINAL-URL:https://arlingtoncommunityband.org
X-WR-CALDESC:Events for Arlington Community Band
REFRESH-INTERVAL;VALUE=DURATION:PT1H
X-Robots-Tag:noindex
X-PUBLISHED-TTL:PT1H
BEGIN:VTIMEZONE
TZID:UTC
BEGIN:STANDARD
TZOFFSETFROM:+0000
TZOFFSETTO:+0000
TZNAME:UTC
DTSTART:20240101T000000
END:STANDARD
END:VTIMEZONE
BEGIN:VTIMEZONE
TZID:Asia/Karachi
BEGIN:STANDARD
TZOFFSETFROM:+0500
TZOFFSETTO:+0500
TZNAME:PKT
DTSTART:20250101T000000
END:STANDARD
END:VTIMEZONE
BEGIN:VEVENT
DTSTART;TZID=UTC:20251207T190000
DTEND;TZID=UTC:20251207T200000
DTSTAMP:20260420T093918
CREATED:20240905T025943Z
LAST-MODIFIED:20251204T151530Z
UID:2389-1765134000-1765137600@arlingtoncommunityband.org
SUMMARY:Christmas Concert
DESCRIPTION:Celebrate Christmas with ACB! Join us for a free\, festive concert for the whole family. We’ll play The Polar Express\, Sleigh Ride\, Fanfare and Hark! The Herald Angels Sing and more Christmas favorites. We’ll also host an intermission with cookies and ensemble performances. \nDownload Program
URL:https://arlingtoncommunityband.org/event/holiday-concert/
LOCATION:Lamar Baptist Church\, 1000 W. Lamar Blvd\, Arlington\, TX\, 76012\, United States
END:VEVENT
BEGIN:VEVENT
DTSTART;TZID=UTC:20260215T190000
DTEND;TZID=UTC:20260215T200000
DTSTAMP:20260420T093918
CREATED:20240905T030151Z
LAST-MODIFIED:20260110T204700Z
UID:2391-1771182000-1771185600@arlingtoncommunityband.org
SUMMARY:Sounds of the Season: Winter
DESCRIPTION:Join the Arlington Community band for a free\, family friendly concert performance reminiscent of the sounds of winter. \nFeaturing: \nAn American Elegy\, Frank Ticheli \nCanarios Fantasia\, Douglas Akey \nDaughters of Texas March\, John Philip Sousa \nIncantation and Dance\, John Barnes Chance \nO Cool is the Valley\, Vincent Persichetti \nStrike Up the Band\, George and Ira Gershwin
URL:https://arlingtoncommunityband.org/event/sounds-of-the-season-winter/
LOCATION:Lamar Baptist Church\, 1000 W. Lamar Blvd\, Arlington\, TX\, 76012\, United States
END:VEVENT
BEGIN:VEVENT
DTSTART;TZID=UTC:20260329T160000
DTEND;TZID=UTC:20260329T170000
DTSTAMP:20260420T093918
CREATED:20240905T030432Z
LAST-MODIFIED:20250907T215206Z
UID:2393-1774800000-1774803600@arlingtoncommunityband.org
SUMMARY:Sounds of the Season: Spring
DESCRIPTION:Join the Arlington Community Band at Veterans Park for a free\, family friendly concert!
URL:https://arlingtoncommunityband.org/event/sounds-of-the-season-spring/
LOCATION:Veterans Park\, 3600 W. Arkansas Ln.\, Arlington\, TX\, 76016\, United States
END:VEVENT
BEGIN:VEVENT
DTSTART;TZID=UTC:20260509T130000
DTEND;TZID=UTC:20260509T200000
DTSTAMP:20260420T093918
CREATED:20240905T030748Z
LAST-MODIFIED:20260419T155205Z
UID:2396-1778331600-1778356800@arlingtoncommunityband.org
SUMMARY:Salute to Community Bands
DESCRIPTION:Join the Arlington Community Band for our 14th year of showcasing community bands in the Dallas-Fort Worth metroplex. This event is free and open to the public! \n1:00 p.m.  ACB Quintet \n2:00 p.m. Greater Fort Worth Community Band \n3:00 p.m.  Fort Worth City Band \n4:00 p.m.   Irving Symphonic Band \n5:00 p.m.   Frisco Community Band \n6:00 p.m.  Southlake Community Band \n7:00 p.m.  Arlington Community Band
URL:https://arlingtoncommunityband.org/event/salute-to-community-bands/
LOCATION:UTA Music Building\, 700 Greek Row\, Arlington\, TX\, 76019\, United States
END:VEVENT
BEGIN:VEVENT
DTSTART;TZID=UTC:20260525T183000
DTEND;TZID=UTC:20260525T193000
DTSTAMP:20260420T093918
CREATED:20260419T155122Z
LAST-MODIFIED:20260419T171835Z
UID:2772-1779733800-1779737400@arlingtoncommunityband.org
SUMMARY:Memorial Day Service
DESCRIPTION:The Arlington Community Band will perform in a service of observance for Memorial Day\, hosted at Veterans Park.
URL:https://arlingtoncommunityband.org/event/memorial-day-service/
LOCATION:Veterans Park\, 3600 W. Arkansas Ln.\, Arlington\, TX\, 76016\, United States
END:VEVENT
BEGIN:VEVENT
DTSTART;TZID=Asia/Karachi:20260628T190000
DTEND;TZID=Asia/Karachi:20260628T200000
DTSTAMP:20260420T093918
CREATED:20240905T030931Z
LAST-MODIFIED:20260413T020442Z
UID:2399-1782673200-1782676800@arlingtoncommunityband.org
SUMMARY:Sounds of the Season: Patriotic
DESCRIPTION:Join the Arlington Community Band for a free\, family friendly concert to celebrate the sounds of America!
URL:https://arlingtoncommunityband.org/event/sounds-of-the-season-patriotic/
LOCATION:Lamar Baptist Church\, 1000 W. Lamar Blvd\, Arlington\, TX\, 76012\, United States
END:VEVENT
BEGIN:VEVENT
DTSTART;TZID=UTC:20260704T090000
DTEND;TZID=UTC:20260704T120000
DTSTAMP:20260420T093918
CREATED:20240905T031159Z
LAST-MODIFIED:20260419T155312Z
UID:2401-1783155600-1783166400@arlingtoncommunityband.org
SUMMARY:Arlington\, Texas Independence Day Parade
DESCRIPTION:Join us at Arlington City Hall for patriotic songs during the annual Independence Day parade.
URL:https://arlingtoncommunityband.org/event/arlington-texas-independence-day-parade/
LOCATION:Arlington City Hall\, 101 W. Abram St.\, Arlington\, TX\, 76010\, United States
END:VEVENT
END:VCALENDAR