BEGIN:VCALENDAR
VERSION:2.0
PRODID:-//Arlington Community Band - ECPv6.15.20//NONSGML v1.0//EN
CALSCALE:GREGORIAN
METHOD:PUBLISH
X-WR-CALNAME:Arlington Community Band
X-ORIGINAL-URL:https://arlingtoncommunityband.org
X-WR-CALDESC:Events for Arlington Community Band
REFRESH-INTERVAL;VALUE=DURATION:PT1H
X-Robots-Tag:noindex
X-PUBLISHED-TTL:PT1H
BEGIN:VTIMEZONE
TZID:UTC
BEGIN:STANDARD
TZOFFSETFROM:+0000
TZOFFSETTO:+0000
TZNAME:UTC
DTSTART:20230101T000000
END:STANDARD
END:VTIMEZONE
BEGIN:VEVENT
DTSTART;TZID=UTC:20251207T190000
DTEND;TZID=UTC:20251207T200000
DTSTAMP:20260421T174447
CREATED:20240905T025943Z
LAST-MODIFIED:20251204T151530Z
UID:2389-1765134000-1765137600@arlingtoncommunityband.org
SUMMARY:Christmas Concert
DESCRIPTION:Celebrate Christmas with ACB! Join us for a free\, festive concert for the whole family. We’ll play The Polar Express\, Sleigh Ride\, Fanfare and Hark! The Herald Angels Sing and more Christmas favorites. We’ll also host an intermission with cookies and ensemble performances. \nDownload Program
URL:https://arlingtoncommunityband.org/event/holiday-concert/
LOCATION:Lamar Baptist Church\, 1000 W. Lamar Blvd\, Arlington\, TX\, 76012\, United States
END:VEVENT
BEGIN:VEVENT
DTSTART;TZID=UTC:20251019T190000
DTEND;TZID=UTC:20251019T200000
DTSTAMP:20260421T174447
CREATED:20240905T024407Z
LAST-MODIFIED:20250907T214731Z
UID:2385-1760900400-1760904000@arlingtoncommunityband.org
SUMMARY:Sounds of the Season: Fall
DESCRIPTION:Join the Arlington Community Band for a free\, family friendly concert. We’ll perform pieces that represent the sounds of fall.
URL:https://arlingtoncommunityband.org/event/sounds-of-the-season-fall/
LOCATION:Lamar Baptist Church\, 1000 W. Lamar Blvd\, Arlington\, TX\, 76012\, United States
END:VEVENT
BEGIN:VEVENT
DTSTART;TZID=UTC:20250526T190000
DTEND;TZID=UTC:20250526T200000
DTSTAMP:20260421T174447
CREATED:20250503T211059Z
LAST-MODIFIED:20250503T211059Z
UID:2632-1748286000-1748289600@arlingtoncommunityband.org
SUMMARY:Memorial Day Observance
DESCRIPTION:The Arlington Community Band will once again play at the Memorial Day Observance in Veterans Park in Arlington\, Texas. Join us as we help honor our veterans with our nation’s anthem and other patriotic music and military hymns.
URL:https://arlingtoncommunityband.org/event/memorial-day-observance/
LOCATION:Veterans Park\, 3600 W. Arkansas Ln.\, Arlington\, TX\, 76016\, United States
END:VEVENT
BEGIN:VEVENT
DTSTART;TZID=UTC:20241111T183000
DTEND;TZID=UTC:20241111T200000
DTSTAMP:20260421T174447
CREATED:20240913T133412Z
LAST-MODIFIED:20241030T125044Z
UID:2498-1731349800-1731355200@arlingtoncommunityband.org
SUMMARY:Veterans Day Performance
DESCRIPTION:Join us as we honor and celebrate our veterans! Cross City Church will host guest speaker Don Graves\, who fought at the Battle of Iwo Jima\, and the Arlington Community Band. It will be a time to honor those who have served and celebrate the freedom we have because of their service. \nBe sure to join us in the Chapel for this special evening!
URL:https://arlingtoncommunityband.org/event/veterans-day-performance/
LOCATION:Cross City Church\, 1000 Airport Frwy\, Euless\, TX\, 76039\, United States
END:VEVENT
END:VCALENDAR